BEGIN:VCALENDAR
VERSION:2.0
PRODID:-//Crosspointe Church - ECPv6.15.20//NONSGML v1.0//EN
CALSCALE:GREGORIAN
METHOD:PUBLISH
X-WR-CALNAME:Crosspointe Church
X-ORIGINAL-URL:https://crosspointechurch.org
X-WR-CALDESC:Events for Crosspointe Church
REFRESH-INTERVAL;VALUE=DURATION:PT1H
X-Robots-Tag:noindex
X-PUBLISHED-TTL:PT1H
BEGIN:VTIMEZONE
TZID:America/Chicago
BEGIN:DAYLIGHT
TZOFFSETFROM:-0600
TZOFFSETTO:-0500
TZNAME:CDT
DTSTART:20200308T080000
END:DAYLIGHT
BEGIN:STANDARD
TZOFFSETFROM:-0500
TZOFFSETTO:-0600
TZNAME:CST
DTSTART:20201101T070000
END:STANDARD
BEGIN:DAYLIGHT
TZOFFSETFROM:-0600
TZOFFSETTO:-0500
TZNAME:CDT
DTSTART:20210314T080000
END:DAYLIGHT
BEGIN:STANDARD
TZOFFSETFROM:-0500
TZOFFSETTO:-0600
TZNAME:CST
DTSTART:20211107T070000
END:STANDARD
BEGIN:DAYLIGHT
TZOFFSETFROM:-0600
TZOFFSETTO:-0500
TZNAME:CDT
DTSTART:20220313T080000
END:DAYLIGHT
BEGIN:STANDARD
TZOFFSETFROM:-0500
TZOFFSETTO:-0600
TZNAME:CST
DTSTART:20221106T070000
END:STANDARD
BEGIN:DAYLIGHT
TZOFFSETFROM:-0600
TZOFFSETTO:-0500
TZNAME:CDT
DTSTART:20230312T080000
END:DAYLIGHT
BEGIN:STANDARD
TZOFFSETFROM:-0500
TZOFFSETTO:-0600
TZNAME:CST
DTSTART:20231105T070000
END:STANDARD
END:VTIMEZONE
BEGIN:VEVENT
DTSTART;TZID=America/Chicago:20221002T140000
DTEND;TZID=America/Chicago:20221002T160000
DTSTAMP:20260421T045350
CREATED:20220913T194138Z
LAST-MODIFIED:20220913T194138Z
UID:4006-1664719200-1664726400@crosspointechurch.org
SUMMARY:Wedding Shower for Bryson Sumrall and Reagan Todd
DESCRIPTION:
URL:https://crosspointechurch.org/event/wedding-shower-for-bryson-sumrall-and-reagan-todd/
ORGANIZER;CN="Patty Todd":MAILTO:info@crosspointechurch.org
END:VEVENT
BEGIN:VEVENT
DTSTART;TZID=America/Chicago:20220928T180000
DTEND;TZID=America/Chicago:20220928T200000
DTSTAMP:20260421T045350
CREATED:20220816T162023Z
LAST-MODIFIED:20220816T162023Z
UID:3941-1664388000-1664395200@crosspointechurch.org
SUMMARY:See You at the Pole Rally for Youth Group
DESCRIPTION:
URL:https://crosspointechurch.org/event/see-you-at-the-pole-rally-for-youth-group/
ORGANIZER;CN="Paul Anderson":MAILTO:info@crosspointechurch.org
END:VEVENT
BEGIN:VEVENT
DTSTART;TZID=America/Chicago:20220925T020000
DTEND;TZID=America/Chicago:20220925T160000
DTSTAMP:20260421T045350
CREATED:20220822T163647Z
LAST-MODIFIED:20220822T163647Z
UID:3966-1664071200-1664121600@crosspointechurch.org
SUMMARY:Wedding Shower for Russ Sumrall and Katie Windham
DESCRIPTION:
URL:https://crosspointechurch.org/event/wedding-shower-for-russ-sumrall-and-katie-windham/
LOCATION:The Y in Downtown Laurel\, 428 W Oak St\, Laurel\, MS\, 39440\, United States
ORGANIZER;CN="Patty Todd":MAILTO:info@crosspointechurch.org
END:VEVENT
BEGIN:VEVENT
DTSTART;TZID=America/Chicago:20220924T080000
DTEND;TZID=America/Chicago:20220924T120000
DTSTAMP:20260421T045350
CREATED:20220816T161930Z
LAST-MODIFIED:20220816T161930Z
UID:3939-1664006400-1664020800@crosspointechurch.org
SUMMARY:Sanctuary Work Day
DESCRIPTION:
URL:https://crosspointechurch.org/event/sanctuary-work-day/
LOCATION:Crosspointe Church\, 163 Bear Pen Creek Rd\, Laurel\, MS\, 39443-9144\, United States
ORGANIZER;CN="Ryan Smith":MAILTO:info@crosspointechurch.org
END:VEVENT
BEGIN:VEVENT
DTSTART;TZID=America/Chicago:20220911T140000
DTEND;TZID=America/Chicago:20220911T160000
DTSTAMP:20260421T045350
CREATED:20220816T161842Z
LAST-MODIFIED:20220816T161842Z
UID:3937-1662904800-1662912000@crosspointechurch.org
SUMMARY:Wedding Shower for Cody Holloway and Madalyn Cooley
DESCRIPTION:
URL:https://crosspointechurch.org/event/wedding-shower-for-cody-holloway-and-madalyn-cooley/
LOCATION:Crosspointe Church\, 163 Bear Pen Creek Rd\, Laurel\, MS\, 39443-9144\, United States
ORGANIZER;CN="Ryan Smith":MAILTO:info@crosspointechurch.org
END:VEVENT
BEGIN:VEVENT
DTSTART;VALUE=DATE:20220903
DTEND;VALUE=DATE:20220906
DTSTAMP:20260421T045350
CREATED:20220816T161716Z
LAST-MODIFIED:20220816T161716Z
UID:3935-1662163200-1662422399@crosspointechurch.org
SUMMARY:Ocoee Rafting Trip for Youth
DESCRIPTION:
URL:https://crosspointechurch.org/event/ocoee-rafting-trip-for-youth/
ORGANIZER;CN="Paul Anderson":MAILTO:info@crosspointechurch.org
END:VEVENT
BEGIN:VEVENT
DTSTART;TZID=America/Chicago:20220828T113000
DTEND;TZID=America/Chicago:20220828T130000
DTSTAMP:20260421T045350
CREATED:20220726T201654Z
LAST-MODIFIED:20220816T161536Z
UID:3908-1661686200-1661691600@crosspointechurch.org
SUMMARY:Small Group Kickoff Party
DESCRIPTION:
URL:https://crosspointechurch.org/event/small-group-launch/
LOCATION:Crosspointe Church\, 163 Bear Pen Creek Rd\, Laurel\, MS\, 39443-9144\, United States
ORGANIZER;CN="Ryan Smith":MAILTO:info@crosspointechurch.org
END:VEVENT
BEGIN:VEVENT
DTSTART;TZID=America/Chicago:20220821T180000
DTEND;TZID=America/Chicago:20220821T190000
DTSTAMP:20260421T045350
CREATED:20220726T201505Z
LAST-MODIFIED:20220726T201505Z
UID:3906-1661104800-1661108400@crosspointechurch.org
SUMMARY:Small Group Leader Meeting
DESCRIPTION:
URL:https://crosspointechurch.org/event/small-group-leader-meeting/
LOCATION:Crosspointe Church\, 163 Bear Pen Creek Rd\, Laurel\, MS\, 39443-9144\, United States
ORGANIZER;CN="Ryan Smith":MAILTO:info@crosspointechurch.org
END:VEVENT
BEGIN:VEVENT
DTSTART;TZID=America/Chicago:20220821T140000
DTEND;TZID=America/Chicago:20220821T160000
DTSTAMP:20260421T045350
CREATED:20220726T201153Z
LAST-MODIFIED:20220726T201153Z
UID:3900-1661090400-1661097600@crosspointechurch.org
SUMMARY:Baby Shower for Kaylah and Jay Selman
DESCRIPTION:
URL:https://crosspointechurch.org/event/baby-shower-for-kaylah-and-jay-selman/
LOCATION:Crosspointe Church\, 163 Bear Pen Creek Rd\, Laurel\, MS\, 39443-9144\, United States
ORGANIZER;CN="Patty Todd":MAILTO:info@crosspointechurch.org
END:VEVENT
BEGIN:VEVENT
DTSTART;TZID=America/Chicago:20220814T140000
DTEND;TZID=America/Chicago:20220814T160000
DTSTAMP:20260421T045350
CREATED:20220726T200938Z
LAST-MODIFIED:20220726T200938Z
UID:3898-1660485600-1660492800@crosspointechurch.org
SUMMARY:Bridal Shower for Courtney Purvis and Jack Taylor
DESCRIPTION:
URL:https://crosspointechurch.org/event/bridal-shower-for-courtney-purvis-and-jack-taylor/
LOCATION:Crosspointe Church\, 163 Bear Pen Creek Rd\, Laurel\, MS\, 39443-9144\, United States
ORGANIZER;CN="Patty Todd":MAILTO:info@crosspointechurch.org
END:VEVENT
BEGIN:VEVENT
DTSTART;TZID=America/Chicago:20220814T113000
DTEND;TZID=America/Chicago:20220814T120000
DTSTAMP:20260421T045350
CREATED:20220726T201349Z
LAST-MODIFIED:20220726T201349Z
UID:3904-1660476600-1660478400@crosspointechurch.org
SUMMARY:Youth Parent Meeting
DESCRIPTION:
URL:https://crosspointechurch.org/event/youth-parent-meeting/
LOCATION:Crosspointe Church\, 163 Bear Pen Creek Rd\, Laurel\, MS\, 39443-9144\, United States
ORGANIZER;CN="Paul Anderson":MAILTO:info@crosspointechurch.org
END:VEVENT
BEGIN:VEVENT
DTSTART;TZID=America/Chicago:20220810T183000
DTEND;TZID=America/Chicago:20220810T203000
DTSTAMP:20260421T045350
CREATED:20220726T201249Z
LAST-MODIFIED:20220726T201249Z
UID:3902-1660156200-1660163400@crosspointechurch.org
SUMMARY:Back to School Rally for Youth
DESCRIPTION:
URL:https://crosspointechurch.org/event/back-to-school-rally-for-youth/
ORGANIZER;CN="Paul Anderson":MAILTO:info@crosspointechurch.org
END:VEVENT
BEGIN:VEVENT
DTSTART;TZID=America/Chicago:20220806T080000
DTEND;TZID=America/Chicago:20220806T090000
DTSTAMP:20260421T045350
CREATED:20220726T200318Z
LAST-MODIFIED:20220726T200318Z
UID:3896-1659772800-1659776400@crosspointechurch.org
SUMMARY:Prayer Meeting
DESCRIPTION:
URL:https://crosspointechurch.org/event/prayer-meeting-4/
LOCATION:Crosspointe Church\, 163 Bear Pen Creek Rd\, Laurel\, MS\, 39443-9144\, United States
ORGANIZER;CN="Ryan Smith":MAILTO:info@crosspointechurch.org
END:VEVENT
BEGIN:VEVENT
DTSTART;VALUE=DATE:20220728
DTEND;VALUE=DATE:20220731
DTSTAMP:20260421T045350
CREATED:20220726T200126Z
LAST-MODIFIED:20220726T200126Z
UID:3894-1658966400-1659225599@crosspointechurch.org
SUMMARY:Motion Conference for Youth
DESCRIPTION:
URL:https://crosspointechurch.org/event/motion-conference-for-youth/
ORGANIZER;CN="Paul Anderson":MAILTO:info@crosspointechurch.org
END:VEVENT
BEGIN:VEVENT
DTSTART;VALUE=DATE:20220716
DTEND;VALUE=DATE:20220720
DTSTAMP:20260421T045350
CREATED:20220309T151555Z
LAST-MODIFIED:20220309T151555Z
UID:3700-1657929600-1658275199@crosspointechurch.org
SUMMARY:Kids Camp
DESCRIPTION:Student Life kids camp is July 16-19 at Shocco Springs Conference Center in Talladega\, AL. This is for children completed 3rd-6th grades. The cost is $375 with a $50 deposit due March 27. We will be having a fundraiser to help with the cost of this camp. If you would like for your child to attend\, please see Kari Davis or Nicole Beaty to sign up.
URL:https://crosspointechurch.org/event/kids-camp/
LOCATION:Shocco Springs Conference Center\, 1314 Shocco Springs Rd\, Talladega\, AL\, 35160\, United States
ORGANIZER;CN="Kari Davis":MAILTO:info@crosspointechurch.org
END:VEVENT
BEGIN:VEVENT
DTSTART;TZID=America/Chicago:20220710T170000
DTEND;TZID=America/Chicago:20220710T200000
DTSTAMP:20260421T045350
CREATED:20220627T155041Z
LAST-MODIFIED:20220627T155041Z
UID:3861-1657472400-1657483200@crosspointechurch.org
SUMMARY:Family Night
DESCRIPTION:
URL:https://crosspointechurch.org/event/family-night-2/
LOCATION:Crosspointe Church\, 163 Bear Pen Creek Rd\, Laurel\, MS\, 39443-9144\, United States
ORGANIZER;CN="Ryan Smith":MAILTO:info@crosspointechurch.org
END:VEVENT
BEGIN:VEVENT
DTSTART;TZID=America/Chicago:20220501T140000
DTEND;TZID=America/Chicago:20220501T150000
DTSTAMP:20260421T045350
CREATED:20220425T202653Z
LAST-MODIFIED:20220425T202653Z
UID:3768-1651413600-1651417200@crosspointechurch.org
SUMMARY:Wedding Shower for McKenzie Watts and Jonathon Castro
DESCRIPTION:
URL:https://crosspointechurch.org/event/wedding-shower-for-mckenzie-watts-and-jonathon-castro/
LOCATION:Edwards Home
ORGANIZER;CN="Liza Reed":MAILTO:info@crosspointechurch.org
END:VEVENT
BEGIN:VEVENT
DTSTART;TZID=America/Chicago:20220327T140000
DTEND;TZID=America/Chicago:20220327T153000
DTSTAMP:20260421T045350
CREATED:20220309T152159Z
LAST-MODIFIED:20220309T152159Z
UID:3707-1648389600-1648395000@crosspointechurch.org
SUMMARY:Baby Shower for Rhett Holifield
DESCRIPTION:Baby shower for Rhett Holifield and his parents\, Ashely and Justin Holifield on March 27th at 2 p.m. at the home of Tiffany and Andy Cupit. Ashley is registered at Amazon and Target.
URL:https://crosspointechurch.org/event/baby-shower-for-rhett-holifield/
ORGANIZER;CN="Ryan Smith":MAILTO:info@crosspointechurch.org
END:VEVENT
BEGIN:VEVENT
DTSTART;TZID=America/Chicago:20220324T140000
DTEND;TZID=America/Chicago:20220324T150000
DTSTAMP:20260421T045350
CREATED:20220309T153031Z
LAST-MODIFIED:20220309T153031Z
UID:3711-1648130400-1648134000@crosspointechurch.org
SUMMARY:Wedding Shower for Matt Sherman and Khaki Peet
DESCRIPTION:We’re having a wedding shower for Matt Sherman and bride-elect Khaki Peet on April 24th at 2 p.m. at the home of Julie and Bill Hogue. Khaki is registered at Southern Antiques and Bed Bath and Beyond.
URL:https://crosspointechurch.org/event/wedding-shower-for-matt-sherman-and-khaki-peet/
ORGANIZER;CN="Patty Todd":MAILTO:info@crosspointechurch.org
END:VEVENT
BEGIN:VEVENT
DTSTART;TZID=America/Chicago:20220320T170000
DTEND;TZID=America/Chicago:20220320T190000
DTSTAMP:20260421T045350
CREATED:20220309T151118Z
LAST-MODIFIED:20220309T151118Z
UID:3698-1647795600-1647802800@crosspointechurch.org
SUMMARY:Family Night
DESCRIPTION:We would like to invite everyone to a time of celebration! We will begin with a meeting and then have a party with food\, fellowship\, jumps\, and games!
URL:https://crosspointechurch.org/event/family-night/
LOCATION:Crosspointe Church\, 163 Bear Pen Creek Rd\, Laurel\, MS\, 39443-9144\, United States
ORGANIZER;CN="Ryan Smith":MAILTO:info@crosspointechurch.org
END:VEVENT
BEGIN:VEVENT
DTSTART;VALUE=DATE:20220315
DTEND;VALUE=DATE:20220319
DTSTAMP:20260421T045350
CREATED:20220309T151934Z
LAST-MODIFIED:20220309T152741Z
UID:3704-1647302400-1647647999@crosspointechurch.org
SUMMARY:Spring Break Youth Retreat
DESCRIPTION:Youth spring retreat at Lake Forest Ranch where students join from other churches to worship together through singing\, hearing the word\, and spending time together in fellowship.
URL:https://crosspointechurch.org/event/spring-break-youth-retreat/
LOCATION:Lake Forest Ranch\, 5326 Lake Forest Rd\, Macon\, MS\, 39341\, United States
ORGANIZER;CN="Paul Anderson":MAILTO:info@crosspointechurch.org
END:VEVENT
BEGIN:VEVENT
DTSTART;TZID=America/Chicago:20220312T073000
DTEND;TZID=America/Chicago:20220312T083000
DTSTAMP:20260421T045350
CREATED:20220309T150940Z
LAST-MODIFIED:20220309T150940Z
UID:3695-1647070200-1647073800@crosspointechurch.org
SUMMARY:Men's Breakfast Fellowship
DESCRIPTION:This is a time for men and sons to come together\, break bread\, and fellowship. This breakfast is happening in the Ed building.
URL:https://crosspointechurch.org/event/mens-breakfast-fellowship-3/
LOCATION:Crosspointe Church\, 163 Bear Pen Creek Rd\, Laurel\, MS\, 39443-9144\, United States
ORGANIZER;CN="Bill Hogue":MAILTO:info@crosspointechurch.org
END:VEVENT
BEGIN:VEVENT
DTSTART;TZID=America/Chicago:20220305T070000
DTEND;TZID=America/Chicago:20220305T083000
DTSTAMP:20260421T045350
CREATED:20220209T152725Z
LAST-MODIFIED:20220209T152725Z
UID:3606-1646463600-1646469000@crosspointechurch.org
SUMMARY:Prayer Meeting
DESCRIPTION:Our prayer team will be leading in a time of prayer for our church family!
URL:https://crosspointechurch.org/event/prayer-meeting-3/
LOCATION:Crosspointe Church\, 163 Bear Pen Creek Rd\, Laurel\, MS\, 39443-9144\, United States
ORGANIZER;CN="Felita Scott":MAILTO:info@crosspointechurch.org
END:VEVENT
BEGIN:VEVENT
DTSTART;TZID=America/Chicago:20220226T070000
DTEND;TZID=America/Chicago:20220226T083000
DTSTAMP:20260421T045350
CREATED:20220209T152653Z
LAST-MODIFIED:20220209T152653Z
UID:3604-1645858800-1645864200@crosspointechurch.org
SUMMARY:Prayer Meeting
DESCRIPTION:Our prayer team will be leading in a time of prayer for our church family!
URL:https://crosspointechurch.org/event/prayer-meeting-2/
LOCATION:Crosspointe Church\, 163 Bear Pen Creek Rd\, Laurel\, MS\, 39443-9144\, United States
ORGANIZER;CN="Felita Scott":MAILTO:info@crosspointechurch.org
END:VEVENT
BEGIN:VEVENT
DTSTART;TZID=America/Chicago:20220219T070000
DTEND;TZID=America/Chicago:20220219T203000
DTSTAMP:20260421T045350
CREATED:20220209T152611Z
LAST-MODIFIED:20220209T152611Z
UID:3601-1645254000-1645302600@crosspointechurch.org
SUMMARY:Prayer Meeting
DESCRIPTION:Our prayer team will be leading in a time of prayer for our church family!
URL:https://crosspointechurch.org/event/prayer-meeting/
LOCATION:Crosspointe Church\, 163 Bear Pen Creek Rd\, Laurel\, MS\, 39443-9144\, United States
ORGANIZER;CN="Felita Scott":MAILTO:info@crosspointechurch.org
END:VEVENT
BEGIN:VEVENT
DTSTART;TZID=America/Chicago:20220212T073000
DTEND;TZID=America/Chicago:20220212T203000
DTSTAMP:20260421T045350
CREATED:20220209T152357Z
LAST-MODIFIED:20220209T152357Z
UID:3599-1644651000-1644697800@crosspointechurch.org
SUMMARY:Men's Breakfast Fellowship
DESCRIPTION:This is a time for men and sons to come together\, break bread\, and fellowship. This breakfast is happening in the Ed building.
URL:https://crosspointechurch.org/event/mens-breakfast-fellowship-2/
LOCATION:Crosspointe Church\, 163 Bear Pen Creek Rd\, Laurel\, MS\, 39443-9144\, United States
ORGANIZER;CN="Bill Hogue":MAILTO:info@crosspointechurch.org
END:VEVENT
BEGIN:VEVENT
DTSTART;VALUE=DATE:20220128
DTEND;VALUE=DATE:20220130
DTSTAMP:20260421T045350
CREATED:20211103T141856Z
LAST-MODIFIED:20211103T141856Z
UID:3320-1643328000-1643500799@crosspointechurch.org
SUMMARY:Disciple Now Youth Weekend
DESCRIPTION:
URL:https://crosspointechurch.org/event/disciple-now-youth-weekend/
END:VEVENT
BEGIN:VEVENT
DTSTART;VALUE=DATE:20211227
DTEND;VALUE=DATE:20211231
DTSTAMP:20260421T045350
CREATED:20211103T141744Z
LAST-MODIFIED:20211103T141744Z
UID:3318-1640563200-1640908799@crosspointechurch.org
SUMMARY:Strength to Stand Youth Conference
DESCRIPTION:
URL:https://crosspointechurch.org/event/strength-to-stand-youth-conference/
ORGANIZER;CN="Paul Anderson":MAILTO:info@crosspointechurch.org
END:VEVENT
BEGIN:VEVENT
DTSTART;TZID=America/Chicago:20211215T180000
DTEND;TZID=America/Chicago:20211215T200000
DTSTAMP:20260421T045350
CREATED:20211103T141612Z
LAST-MODIFIED:20211103T141612Z
UID:3316-1639591200-1639598400@crosspointechurch.org
SUMMARY:Youth Christmas Party
DESCRIPTION:
URL:https://crosspointechurch.org/event/youth-christmas-party/
LOCATION:Crosspointe Church\, 163 Bear Pen Creek Rd\, Laurel\, MS\, 39443-9144\, United States
ORGANIZER;CN="Paul Anderson":MAILTO:info@crosspointechurch.org
END:VEVENT
BEGIN:VEVENT
DTSTART;TZID=America/Chicago:20211121T120000
DTEND;TZID=America/Chicago:20211121T140000
DTSTAMP:20260421T045350
CREATED:20211103T142524Z
LAST-MODIFIED:20211103T142524Z
UID:3322-1637496000-1637503200@crosspointechurch.org
SUMMARY:Church-wide Harvest Meal
DESCRIPTION:
URL:https://crosspointechurch.org/event/church-wide-harvest-meal/
LOCATION:Crosspointe Church\, 163 Bear Pen Creek Rd\, Laurel\, MS\, 39443-9144\, United States
ORGANIZER;CN="Ryan Smith":MAILTO:info@crosspointechurch.org
END:VEVENT
END:VCALENDAR