BEGIN:VCALENDAR
VERSION:2.0
PRODID:-//Crosspointe Church - ECPv6.15.20//NONSGML v1.0//EN
CALSCALE:GREGORIAN
METHOD:PUBLISH
X-WR-CALNAME:Crosspointe Church
X-ORIGINAL-URL:https://crosspointechurch.org
X-WR-CALDESC:Events for Crosspointe Church
REFRESH-INTERVAL;VALUE=DURATION:PT1H
X-Robots-Tag:noindex
X-PUBLISHED-TTL:PT1H
BEGIN:VTIMEZONE
TZID:America/Chicago
BEGIN:DAYLIGHT
TZOFFSETFROM:-0600
TZOFFSETTO:-0500
TZNAME:CDT
DTSTART:20200308T080000
END:DAYLIGHT
BEGIN:STANDARD
TZOFFSETFROM:-0500
TZOFFSETTO:-0600
TZNAME:CST
DTSTART:20201101T070000
END:STANDARD
BEGIN:DAYLIGHT
TZOFFSETFROM:-0600
TZOFFSETTO:-0500
TZNAME:CDT
DTSTART:20210314T080000
END:DAYLIGHT
BEGIN:STANDARD
TZOFFSETFROM:-0500
TZOFFSETTO:-0600
TZNAME:CST
DTSTART:20211107T070000
END:STANDARD
BEGIN:DAYLIGHT
TZOFFSETFROM:-0600
TZOFFSETTO:-0500
TZNAME:CDT
DTSTART:20220313T080000
END:DAYLIGHT
BEGIN:STANDARD
TZOFFSETFROM:-0500
TZOFFSETTO:-0600
TZNAME:CST
DTSTART:20221106T070000
END:STANDARD
BEGIN:DAYLIGHT
TZOFFSETFROM:-0600
TZOFFSETTO:-0500
TZNAME:CDT
DTSTART:20230312T080000
END:DAYLIGHT
BEGIN:STANDARD
TZOFFSETFROM:-0500
TZOFFSETTO:-0600
TZNAME:CST
DTSTART:20231105T070000
END:STANDARD
END:VTIMEZONE
BEGIN:VEVENT
DTSTART;TZID=America/Chicago:20220219T070000
DTEND;TZID=America/Chicago:20220219T203000
DTSTAMP:20260421T074434
CREATED:20220209T152611Z
LAST-MODIFIED:20220209T152611Z
UID:3601-1645254000-1645302600@crosspointechurch.org
SUMMARY:Prayer Meeting
DESCRIPTION:Our prayer team will be leading in a time of prayer for our church family!
URL:https://crosspointechurch.org/event/prayer-meeting/
LOCATION:Crosspointe Church\, 163 Bear Pen Creek Rd\, Laurel\, MS\, 39443-9144\, United States
ORGANIZER;CN="Felita Scott":MAILTO:info@crosspointechurch.org
END:VEVENT
BEGIN:VEVENT
DTSTART;TZID=America/Chicago:20220212T073000
DTEND;TZID=America/Chicago:20220212T203000
DTSTAMP:20260421T074434
CREATED:20220209T152357Z
LAST-MODIFIED:20220209T152357Z
UID:3599-1644651000-1644697800@crosspointechurch.org
SUMMARY:Men's Breakfast Fellowship
DESCRIPTION:This is a time for men and sons to come together\, break bread\, and fellowship. This breakfast is happening in the Ed building.
URL:https://crosspointechurch.org/event/mens-breakfast-fellowship-2/
LOCATION:Crosspointe Church\, 163 Bear Pen Creek Rd\, Laurel\, MS\, 39443-9144\, United States
ORGANIZER;CN="Bill Hogue":MAILTO:info@crosspointechurch.org
END:VEVENT
BEGIN:VEVENT
DTSTART;VALUE=DATE:20220128
DTEND;VALUE=DATE:20220130
DTSTAMP:20260421T074434
CREATED:20211103T141856Z
LAST-MODIFIED:20211103T141856Z
UID:3320-1643328000-1643500799@crosspointechurch.org
SUMMARY:Disciple Now Youth Weekend
DESCRIPTION:
URL:https://crosspointechurch.org/event/disciple-now-youth-weekend/
LOCATION:MS
END:VEVENT
BEGIN:VEVENT
DTSTART;VALUE=DATE:20211227
DTEND;VALUE=DATE:20211231
DTSTAMP:20260421T074434
CREATED:20211103T141744Z
LAST-MODIFIED:20211103T141744Z
UID:3318-1640563200-1640908799@crosspointechurch.org
SUMMARY:Strength to Stand Youth Conference
DESCRIPTION:
URL:https://crosspointechurch.org/event/strength-to-stand-youth-conference/
LOCATION:MS
ORGANIZER;CN="Paul Anderson":MAILTO:info@crosspointechurch.org
END:VEVENT
BEGIN:VEVENT
DTSTART;TZID=America/Chicago:20211215T180000
DTEND;TZID=America/Chicago:20211215T200000
DTSTAMP:20260421T074434
CREATED:20211103T141612Z
LAST-MODIFIED:20211103T141612Z
UID:3316-1639591200-1639598400@crosspointechurch.org
SUMMARY:Youth Christmas Party
DESCRIPTION:
URL:https://crosspointechurch.org/event/youth-christmas-party/
LOCATION:Crosspointe Church\, 163 Bear Pen Creek Rd\, Laurel\, MS\, 39443-9144\, United States
ORGANIZER;CN="Paul Anderson":MAILTO:info@crosspointechurch.org
END:VEVENT
BEGIN:VEVENT
DTSTART;TZID=America/Chicago:20211121T120000
DTEND;TZID=America/Chicago:20211121T140000
DTSTAMP:20260421T074434
CREATED:20211103T142524Z
LAST-MODIFIED:20211103T142524Z
UID:3322-1637496000-1637503200@crosspointechurch.org
SUMMARY:Church-wide Harvest Meal
DESCRIPTION:
URL:https://crosspointechurch.org/event/church-wide-harvest-meal/
LOCATION:Crosspointe Church\, 163 Bear Pen Creek Rd\, Laurel\, MS\, 39443-9144\, United States
ORGANIZER;CN="Ryan Smith":MAILTO:info@crosspointechurch.org
END:VEVENT
BEGIN:VEVENT
DTSTART;TZID=America/Chicago:20211117T180000
DTEND;TZID=America/Chicago:20211117T200000
DTSTAMP:20260421T074434
CREATED:20211103T141428Z
LAST-MODIFIED:20211103T141428Z
UID:3314-1637172000-1637179200@crosspointechurch.org
SUMMARY:Youth Thanksgiving Meal
DESCRIPTION:
URL:https://crosspointechurch.org/event/youth-thanksgiving-meal/
LOCATION:Crosspointe Church\, 163 Bear Pen Creek Rd\, Laurel\, MS\, 39443-9144\, United States
ORGANIZER;CN="Paul Anderson":MAILTO:info@crosspointechurch.org
END:VEVENT
BEGIN:VEVENT
DTSTART;TZID=America/Chicago:20211113T073000
DTEND;TZID=America/Chicago:20211113T083000
DTSTAMP:20260421T074434
CREATED:20211101T160147Z
LAST-MODIFIED:20211101T160147Z
UID:3312-1636788600-1636792200@crosspointechurch.org
SUMMARY:Men's Breakfast Fellowship
DESCRIPTION:This is a time for men and sons to come together\, break bread\, and fellowship. This breakfast is happening in the Ed building.
URL:https://crosspointechurch.org/event/mens-breakfast-fellowship/
LOCATION:Crosspointe Church\, 163 Bear Pen Creek Rd\, Laurel\, MS\, 39443-9144\, United States
ORGANIZER;CN="Bill Hogue":MAILTO:info@crosspointechurch.org
END:VEVENT
BEGIN:VEVENT
DTSTART;TZID=America/Chicago:20211103T180000
DTEND;TZID=America/Chicago:20211103T203000
DTSTAMP:20260421T074434
CREATED:20211101T160051Z
LAST-MODIFIED:20211101T160051Z
UID:3310-1635962400-1635971400@crosspointechurch.org
SUMMARY:Youth Costume Party
DESCRIPTION:Instead of our normal youth service this week\, we’re having a special get-together for them at the Smith’s house! The costume contest is happening\, so yall come ready!
URL:https://crosspointechurch.org/event/youth-costume-party/
LOCATION:MS
ORGANIZER;CN="Paul Anderson":MAILTO:info@crosspointechurch.org
END:VEVENT
BEGIN:VEVENT
DTSTART;TZID=America/Chicago:20211103T180000
DTEND;TZID=America/Chicago:20211103T200000
DTSTAMP:20260421T074434
CREATED:20211101T155755Z
LAST-MODIFIED:20211101T155755Z
UID:3308-1635962400-1635969600@crosspointechurch.org
SUMMARY:Kids Costume Party
DESCRIPTION:Along with our normal Wednesday Night Children’s Ministry\, we’re having a costume party!
URL:https://crosspointechurch.org/event/kids-costume-party/
LOCATION:Crosspointe Church\, 163 Bear Pen Creek Rd\, Laurel\, MS\, 39443-9144\, United States
ORGANIZER;CN="Kari Davis":MAILTO:info@crosspointechurch.org
END:VEVENT
BEGIN:VEVENT
DTSTART;TZID=America/Chicago:20211017T170000
DTEND;TZID=America/Chicago:20211017T183000
DTSTAMP:20260421T074434
CREATED:20210916T141531Z
LAST-MODIFIED:20210929T181957Z
UID:3177-1634490000-1634495400@crosspointechurch.org
SUMMARY:Starting Pointe
DESCRIPTION:A One-time orientation and informational discussion about faith\, vision\, mission\, and strategy of CrossPointe\, along with the way to partner with us. Childcare is provided. Sign up at STARTING POINTE
URL:https://crosspointechurch.org/event/starting-pointe/
LOCATION:Crosspointe Church\, 163 Bear Pen Creek Rd\, Laurel\, MS\, 39443-9144\, United States
ORGANIZER;CN="Ryan Smith":MAILTO:info@crosspointechurch.org
END:VEVENT
BEGIN:VEVENT
DTSTART;TZID=America/Chicago:20211017T100000
DTEND;TZID=America/Chicago:20211017T113000
DTSTAMP:20260421T074434
CREATED:20210929T182407Z
LAST-MODIFIED:20211006T163123Z
UID:3215-1634464800-1634470200@crosspointechurch.org
SUMMARY:Baptism Service
DESCRIPTION:We will have baptisms during our regularly scheduled worship service! To learn more and/or sign up to be baptized click here: BAPTISM
URL:https://crosspointechurch.org/event/baptism-service/
LOCATION:Crosspointe Church\, 163 Bear Pen Creek Rd\, Laurel\, MS\, 39443-9144\, United States
ORGANIZER;CN="Ryan Smith":MAILTO:info@crosspointechurch.org
END:VEVENT
BEGIN:VEVENT
DTSTART;TZID=America/Chicago:20211010T113000
DTEND;TZID=America/Chicago:20211010T113000
DTSTAMP:20260421T074434
CREATED:20210921T160330Z
LAST-MODIFIED:20211006T162756Z
UID:3195-1633865400-1633865400@crosspointechurch.org
SUMMARY:Children’s Volunteer Training
DESCRIPTION:This is an essential training meeting for all children’s volunteer that will be held on campus directly after service. Childcare and lunch will be provided.
URL:https://crosspointechurch.org/event/childrens-volunteer-training/
LOCATION:Crosspointe Church\, 163 Bear Pen Creek Rd\, Laurel\, MS\, 39443-9144\, United States
ORGANIZER;CN="Kari Davis":MAILTO:info@crosspointechurch.org
END:VEVENT
BEGIN:VEVENT
DTSTART;TZID=America/Chicago:20211009T080000
DTEND;TZID=America/Chicago:20211009T130000
DTSTAMP:20260421T074434
CREATED:20210915T202413Z
LAST-MODIFIED:20210915T202413Z
UID:3151-1633766400-1633784400@crosspointechurch.org
SUMMARY:Church Workday
DESCRIPTION:We are in the process of doing some much-needed work and repairs in our Education building. There are some specific needs that we have and are wanting to fulfill these needs on two different days. We will have our Ed building workdays on September 25 and October 9 from 8:00 am – 1:00 pm. There are various ways you can sign up\, whether it be physically able to be there on one or both of these days\, to give monetarily\, and also to pray. For more information\, please see Liza reed\, Shely Winpigler\, Kari Davis\, or Nicole Beaty.
URL:https://crosspointechurch.org/event/church-workday-2/
LOCATION:Crosspointe Church\, 163 Bear Pen Creek Rd\, Laurel\, MS\, 39443-9144\, United States
ORGANIZER;CN="Liza Reed":MAILTO:info@crosspointechurch.org
END:VEVENT
BEGIN:VEVENT
DTSTART;TZID=America/Chicago:20211009T070000
DTEND;TZID=America/Chicago:20211009T080000
DTSTAMP:20260421T074434
CREATED:20210915T202724Z
LAST-MODIFIED:20210921T160419Z
UID:3154-1633762800-1633766400@crosspointechurch.org
SUMMARY:Men's Breakfast
DESCRIPTION:This is a time for men and sons to come together\, break bread\, and fellowship. This breakfast is happening in the Ed building.
URL:https://crosspointechurch.org/event/mens-breakfast/
LOCATION:Crosspointe Church\, 163 Bear Pen Creek Rd\, Laurel\, MS\, 39443-9144\, United States
ORGANIZER;CN="Bill Hogue":MAILTO:info@crosspointechurch.org
END:VEVENT
BEGIN:VEVENT
DTSTART;TZID=America/Chicago:20210925T080000
DTEND;TZID=America/Chicago:20210925T130000
DTSTAMP:20260421T074434
CREATED:20210915T202149Z
LAST-MODIFIED:20210915T202149Z
UID:3147-1632556800-1632574800@crosspointechurch.org
SUMMARY:Church Workday
DESCRIPTION:We are in the process of doing some much-needed work and repairs in our Education building. There are some specific needs that we have and are wanting to fulfill these needs on two different days. We will have our Ed building workdays on September 25 and October 9 from 8:00 am – 1:00 pm. There are various ways you can sign up\, whether it be physically able to be there on one or both of these days\, to give monetarily\, and also to pray. For more information\, please see Liza reed\, Shely Winpigler\, Kari Davis\, or Nicole Beaty.
URL:https://crosspointechurch.org/event/church-workday/
LOCATION:Crosspointe Church\, 163 Bear Pen Creek Rd\, Laurel\, MS\, 39443-9144\, United States
ORGANIZER;CN="Liza Reed":MAILTO:info@crosspointechurch.org
END:VEVENT
BEGIN:VEVENT
DTSTART;TZID=America/Chicago:20210922T183000
DTEND;TZID=America/Chicago:20210922T200000
DTSTAMP:20260421T074434
CREATED:20210915T203604Z
LAST-MODIFIED:20210915T203604Z
UID:3157-1632335400-1632340800@crosspointechurch.org
SUMMARY:See You at the Pole Youth Rally
DESCRIPTION:See You at the Pole Rally at West Jones PAC. Meet at the church at 5:30 to eat pizza and leave by 5:45. We’ll return at 8:15. Skit Guys will be performing. The cost is $10.
URL:https://crosspointechurch.org/event/see-you-at-the-pole-youth-rally/
LOCATION:West Jones High School\, 254 Springhill Rd\, Laurel\, MS\, 39443\, United States
ORGANIZER;CN="Paul Anderson":MAILTO:info@crosspointechurch.org
END:VEVENT
END:VCALENDAR